Workbook

Sheet Sociální služba 1
A3: Základní identifikační údaje:
A5: Název organizace (poskytovatele služby)
A6: Identifikační číslo (IČ)
A7: Identifikátor služby
A8: Název služby
A9: Druh služby
A10: Forma služby
A11: Cílová skupina služby
A12: Místo poskytování sociální služby a územní působnost
A13: Služba v rámci projektu poskytována od - do (uvede se konkrétní datum odkdy - dokdy je poskytování služby v projektu):
A14: Počet měsíců poskytování služby v rámci projektu celkem | C14: =SUM(C15:C18) -> 0
A15: rok n
A16: rok n+1
A17: rok n+2
A18: rok n+3
A20: Údaje o kapacitě služby (poskytovatel vyplní údaje o kapacitě služby s ohledem na druh a formu služby a způsob/jednotku vyjádření její kapacity v síti sociálních služeb a v rámci Pověření)
A22: Předpokládaný rozsah služby (Kapacita služby) | C22: Jednotka pro vyjádření kapacity služby | E22: Počet jednotek služby
A23: rok n
A24: rok n+1
A25: rok n+2
A26: rok n+3
A28: poznámka: rok n = první kalendářní rok, ve kterém bude sociální služba v rámci projektu podpořena
A31: Personální zajištění služby
A33: rok n
A34: ř. | B34: pracovní pozice | D34: úvazky - pracovní smlouvy | E34: úvazky - DPČ | F34: úvazky (přepočet) - DPP | G34: celkem
A35: 1 | B35: PRACOVNÍCI CELKEM | D35: 0 | E35: =E36+E43 -> 0 | F35: =F36+F43 -> 0 | G35: =G36+G43 -> 0
A36: 41275 | B36: PRACOVNÍCI V PŘÍMÉ PÉČI celkem | D36: =SUM(D37:D42) -> 0 | E36: =SUM(E37:E42) -> 0 | F36: =SUM(F37:F42) -> 0 | G36: =SUM(G37:G42) -> 0
A37: 1.1.1. | B37: sociální pracovníci | G37: =SUM(D37:F37) -> 0
A38: 1.1.2. | B38: pracovníci v sociálních službách | G38: =SUM(D38:F38) -> 0
A39: 1.1.3. | B39: zdravotničtí pracovníci | G39: =SUM(D39:F39) -> 0
A40: 1.1.4. | B40: pedagogičtí pracovníci | G40: =SUM(D40:F40) -> 0
A41: 1.1.5. | B41: manželští a rodinní poradci | G41: =SUM(D41:F41) -> 0
A42: 1.1.6. | B42: další odborní pracovníci, kt.přímo poskytují soc.služby | G42: =SUM(D42:F42) -> 0
A43: 41306 | B43: OSTATNÍ PRACOVNÍCI celkem | D43: =SUM(D44:D46) -> 0 | E43: =SUM(E44:E46) -> 0 | F43: =SUM(F44:F46) -> 0 | G43: =SUM(G44:G46) -> 0
A44: 1.2.1. | B44: vedoucí pracovníci | G44: =SUM(D44:F44) -> 0
A45: 1.2.2. | B45: administrativní pracovníci | G45: =SUM(D45:F45) -> 0
A46: 1.2.3. | B46: obslužný personál | G46: =SUM(D46:F46) -> 0
A48: rok n+1
A49: ř. | B49: pracovní pozice | D49: úvazky - pracovní smlouvy | E49: úvazky - DPČ | F49: úvazky (přepočet) - DPP | G49: celkem
A50: 1 | B50: PRACOVNÍCI CELKEM | D50: =D51+D58 -> 0 | E50: =E51+E58 -> 0 | F50: =F51+F58 -> 0 | G50: =G51+G58 -> 0
A51: 41275 | B51: PRACOVNÍCI V PŘÍMÉ PÉČI celkem | D51: =SUM(D52:D57) -> 0 | E51: =SUM(E52:E57) -> 0 | F51: =SUM(F52:F57) -> 0 | G51: =SUM(G52:G57) -> 0
A52: 1.1.1. | B52: sociální pracovníci | G52: =SUM(D52:F52) -> 0
A53: 1.1.2. | B53: pracovníci v sociálních službách | G53: =SUM(D53:F53) -> 0
A54: 1.1.3. | B54: zdravotničtí pracovníci | G54: =SUM(D54:F54) -> 0
A55: 1.1.4. | B55: pedagogičtí pracovníci | G55: =SUM(D55:F55) -> 0
A56: 1.1.5. | B56: manželští a rodinní poradci | G56: =SUM(D56:F56) -> 0
A57: 1.1.6. | B57: další odborní pracovníci, kt.přímo poskytují soc.služby | G57: =SUM(D57:F57) -> 0
A58: 41306 | B58: OSTATNÍ PRACOVNÍCI celkem | D58: =SUM(D59:D61) -> 0 | E58: =SUM(E59:E61) -> 0 | F58: =SUM(F59:F61) -> 0 | G58: =SUM(G59:G61) -> 0
A59: 1.2.1. | B59: vedoucí pracovníci | G59: =SUM(D59:F59) -> 0
A60: 1.2.2. | B60: administrativní pracovníci | G60: =SUM(D60:F60) -> 0
A61: 1.2.3. | B61: obslužný personál | G61: =SUM(D61:F61) -> 0
A63: rok n+2
A64: ř. | B64: pracovní pozice | D64: úvazky - pracovní smlouvy | E64: úvazky - DPČ | F64: úvazky (přepočet) - DPP | G64: celkem
A65: 1 | B65: PRACOVNÍCI CELKEM | D65: =D66+D73 -> 0 | E65: =E66+E73 -> 0 | F65: =F66+F73 -> 0 | G65: =G66+G73 -> 0
A66: 41275 | B66: PRACOVNÍCI V PŘÍMÉ PÉČI celkem | D66: =SUM(D67:D72) -> 0 | E66: =SUM(E67:E72) -> 0 | F66: =SUM(F67:F72) -> 0 | G66: =SUM(G67:G72) -> 0
A67: 1.1.1. | B67: sociální pracovníci | G67: =SUM(D67:F67) -> 0
A68: 1.1.2. | B68: pracovníci v sociálních službách | G68: =SUM(D68:F68) -> 0
A69: 1.1.3. | B69: zdravotničtí pracovníci | G69: =SUM(D69:F69) -> 0
A70: 1.1.4. | B70: pedagogičtí pracovníci | G70: =SUM(D70:F70) -> 0
A71: 1.1.5. | B71: manželští a rodinní poradci | G71: =SUM(D71:F71) -> 0
A72: 1.1.6. | B72: další odborní pracovníci, kt.přímo poskytují soc.služby | G72: =SUM(D72:F72) -> 0
A73: 41306 | B73: OSTATNÍ PRACOVNÍCI celkem | D73: =SUM(D74:D76) -> 0 | E73: =SUM(E74:E76) -> 0 | F73: =SUM(F74:F76) -> 0 | G73: =SUM(G74:G76) -> 0
A74: 1.2.1. | B74: vedoucí pracovníci | G74: =SUM(D74:F74) -> 0
A75: 1.2.2. | B75: administrativní pracovníci | G75: =SUM(D75:F75) -> 0
A76: 1.2.3. | B76: obslužný personál | G76: =SUM(D76:F76) -> 0
A78: rok n+3
A79: ř. | B79: pracovní pozice | D79: úvazky - pracovní smlouvy | E79: úvazky - DPČ | F79: úvazky (přepočet) - DPP | G79: celkem
A80: 1 | B80: PRACOVNÍCI CELKEM | D80: =D81+D88 -> 0 | E80: =E81+E88 -> 0 | F80: =F81+F88 -> 0 | G80: =G81+G88 -> 0
A81: 41275 | B81: PRACOVNÍCI V PŘÍMÉ PÉČI celkem | D81: =SUM(D82:D87) -> 0 | E81: =SUM(E82:E87) -> 0 | F81: =SUM(F82:F87) -> 0 | G81: =SUM(G82:G87) -> 0
A82: 1.1.1. | B82: sociální pracovníci | G82: =SUM(D82:F82) -> 0
A83: 1.1.2. | B83: pracovníci v sociálních službách | G83: =SUM(D83:F83) -> 0
A84: 1.1.3. | B84: zdravotničtí pracovníci | G84: =SUM(D84:F84) -> 0
A85: 1.1.4. | B85: pedagogičtí pracovníci | G85: =SUM(D85:F85) -> 0
A86: 1.1.5. | B86: manželští a rodinní poradci | G86: =SUM(D86:F86) -> 0
A87: 1.1.6. | B87: další odborní pracovníci, kt.přímo poskytují soc.služby | G87: =SUM(D87:F87) -> 0
A88: 41306 | B88: OSTATNÍ PRACOVNÍCI celkem | D88: =SUM(D89:D91) -> 0 | E88: =SUM(E89:E91) -> 0 | F88: =SUM(F89:F91) -> 0 | G88: =SUM(G89:G91) -> 0
A89: 1.2.1. | B89: vedoucí pracovníci | G89: =SUM(D89:F89) -> 0
A90: 1.2.2. | B90: administrativní pracovníci | G90: =SUM(D90:F90) -> 0
A91: 1.2.3. | B91: obslužný personál | G91: =SUM(D91:F91) -> 0
A93: Finanční část
A95: Plánované náklady sociální služby podle jednotlivých nákladových položek (celkem a v jednotlivých letech poskytování služby v rámci projektu)
A97: Nákladová položka | D97: Plánované náklady sociální služby CELKEM | E97: Plánované náklady sociální služby v roce n | F97: Plánované náklady sociální služby v roce n+1 | G97: Plánované náklady sociální služby v roce n+2 | H97: Plánované náklady sociální služby v roce n+3 | I97: číslo položky rozpočtu v IS KP 14+ | J97: Komentář
A98: 1 OSOBNÍ (MZDOVÉ) NÁKLADY | D98: =SUM(E98:H98) -> 0 | E98: =SUM(E99:E102) -> 0 | F98: =SUM(F99:F102) -> 0 | G98: =SUM(G99:G102) -> 0 | H98: =SUM(H99:H102) -> 0
A99: 1.1 Pracovní smlouvy (hlavní pracovní poměr) | D99: =SUM(E99:H99) -> 0 | E99: 0 | F99: 0 | G99: 0 | H99: 0
A100: 1.2 Dohody o pracovní činnosti | D100: =SUM(E100:H100) -> 0 | E100: 0 | F100: 0 | G100: 0 | H100: 0
A101: 1.3 Dohody o provedení práce | D101: =SUM(E101:H101) -> 0 | E101: 0 | F101: 0 | G101: 0 | H101: 0
A102: 1.4 Jiné osobní náklady | D102: =SUM(E102:H102) -> 0 | E102: 0 | F102: 0 | G102: 0 | H102: 0
A103: 03 Zařízení a vybavení | D103: =SUM(E103:H103) -> 0 | E103: =E104 -> 0 | F103: =F104 -> 0 | G103: =G104 -> 0 | H103: =H104 -> 0
A104: 3.2 Dlouhodobý majetek - neinvestiční | D104: =SUM(E104:H104) -> 0 | E104: =SUM(E105:E108) -> 0 | F104: =SUM(F105:F108) -> 0 | G104: =SUM(G105:G108) -> 0 | H104: =SUM(H105:H108) -> 0
A105: 3.2.1 Dlouhodobý nehmotný majetek do 60 tis. Kč | D105: =SUM(E105:H105) -> 0 | E105: 0 | F105: 0 | G105: 0 | H105: 0
A106: 3.2.2 Dlouhodobý hmotný majetek do 40 tis. Kč | D106: =SUM(E106:H106) -> 0 | E106: 0 | F106: 0 | G106: 0 | H106: 0
A107: 3.2.3 Spotřební materiál pro CS | D107: =SUM(E107:H107) -> 0 | E107: 0 | F107: 0 | G107: 0 | H107: 0
A108: 3.2.4 odpisy | D108: =SUM(E108:H108) -> 0 | E108: 0 | F108: 0 | G108: 0 | H108: 0
A109: 04 Služby | D109: =SUM(E109:H109) -> 0 | E109: =SUM(E110:E115) -> 0 | F109: =SUM(F110:F115) -> 0 | G109: =SUM(G110:G115) -> 0 | H109: =SUM(H110:H115) -> 0
A110: 4.1 nájemné | D110: =SUM(E110:H110) -> 0 | E110: 0 | F110: 0 | G110: 0 | H110: 0
A111: 4.2 právní a ekonomické služby | D111: =SUM(E111:H111) -> 0 | E111: 0 | F111: 0 | G111: 0 | H111: 0
A112: 4.3 školení a kurzy | D112: =SUM(E112:H112) -> 0 | E112: 0 | F112: 0 | G112: 0 | H112: 0
A113: 4.4 pracovníci v přímé péči (mimo prac.poměr, DPP, DPČ) | D113: =SUM(E113:H113) -> 0 | E113: 0 | F113: 0 | G113: 0 | H113: 0
A114: 4.5 ostatní pracovníci (mimo prac.poměr, DPP, DPČ) | D114: =SUM(E114:H114) -> 0 | E114: 0 | F114: 0 | G114: 0 | H114: 0
A115: 4.6 jiné | D115: =SUM(E115:H115) -> 0 | E115: 0 | F115: 0 | G115: 0 | H115: 0
...

Sheet Sociální služba 2
A3: Základní identifikační údaje:
A5: Název organizace (poskytovatele služby)
A6: Identifikační číslo (IČ)
A7: Identifikátor služby
A8: Název služby
A9: Druh služby
A10: Forma služby
A11: Cílová skupina služby
A12: Místo poskytování sociální služby a územní působnost
A13: Služba v rámci projektu poskytována od - do (uvede se konkrétní datum odkdy - dokdy je poskytování služby v projektu):
A14: Počet měsíců poskytování služby v rámci projektu celkem | C14: =SUM(C15:C18) -> 0
A15: rok n
A16: rok n+1
A17: rok n+2
A18: rok n+3
A20: Údaje o kapacitě služby (poskytovatel vyplní údaje o kapacitě služby s ohledem na druh a formu služby a způsob/jednotku vyjádření její kapacity v síti sociálních služeb a v rámci Pověření)
A22: Předpokládaný rozsah služby (Kapacita služby) | C22: Jednotka pro vyjádření kapacity služby | E22: Počet jednotek služby
A23: rok n
A24: rok n+1
A25: rok n+2
A26: rok n+3
A28: poznámka: rok n = první kalendářní rok, ve kterém bude sociální služba v rámci projektu podpořena
A31: Personální zajištění služby
A33: rok n
A34: ř. | B34: pracovní pozice | D34: úvazky - pracovní smlouvy | E34: úvazky - DPČ | F34: úvazky (přepočet) - DPP | G34: celkem
A35: 1 | B35: PRACOVNÍCI CELKEM | D35: =D36+D43 -> 0 | E35: =E36+E43 -> 0 | F35: =F36+F43 -> 0 | G35: =G36+G43 -> 0
A36: 41275 | B36: PRACOVNÍCI V PŘÍMÉ PÉČI celkem | D36: =SUM(D37:D42) -> 0 | E36: =SUM(E37:E42) -> 0 | F36: =SUM(F37:F42) -> 0 | G36: =SUM(G37:G42) -> 0
A37: 1.1.1. | B37: sociální pracovníci | G37: =SUM(D37:F37) -> 0
A38: 1.1.2. | B38: pracovníci v sociálních službách | G38: =SUM(D38:F38) -> 0
A39: 1.1.3. | B39: zdravotničtí pracovníci | G39: =SUM(D39:F39) -> 0
A40: 1.1.4. | B40: pedagogičtí pracovníci | G40: =SUM(D40:F40) -> 0
A41: 1.1.5. | B41: manželští a rodinní poradci | G41: =SUM(D41:F41) -> 0
A42: 1.1.6. | B42: další odborní pracovníci, kt.přímo poskytují soc.služby | G42: =SUM(D42:F42) -> 0
A43: 41306 | B43: OSTATNÍ PRACOVNÍCI celkem | D43: =SUM(D44:D46) -> 0 | E43: =SUM(E44:E46) -> 0 | F43: =SUM(F44:F46) -> 0 | G43: =SUM(G44:G46) -> 0
A44: 1.2.1. | B44: vedoucí pracovníci | G44: =SUM(D44:F44) -> 0
A45: 1.2.2. | B45: administrativní pracovníci | G45: =SUM(D45:F45) -> 0
A46: 1.2.3. | B46: obslužný personál | G46: =SUM(D46:F46) -> 0
A48: rok n+1
A49: ř. | B49: pracovní pozice | D49: úvazky - pracovní smlouvy | E49: úvazky - DPČ | F49: úvazky (přepočet) - DPP | G49: celkem
A50: 1 | B50: PRACOVNÍCI CELKEM | D50: =D51+D58 -> 0 | E50: =E51+E58 -> 0 | F50: =F51+F58 -> 0 | G50: =G51+G58 -> 0
A51: 41275 | B51: PRACOVNÍCI V PŘÍMÉ PÉČI celkem | D51: =SUM(D52:D57) -> 0 | E51: =SUM(E52:E57) -> 0 | F51: =SUM(F52:F57) -> 0 | G51: =SUM(G52:G57) -> 0
A52: 1.1.1. | B52: sociální pracovníci | G52: =SUM(D52:F52) -> 0
A53: 1.1.2. | B53: pracovníci v sociálních službách | G53: =SUM(D53:F53) -> 0
A54: 1.1.3. | B54: zdravotničtí pracovníci | G54: =SUM(D54:F54) -> 0
A55: 1.1.4. | B55: pedagogičtí pracovníci | G55: =SUM(D55:F55) -> 0
A56: 1.1.5. | B56: manželští a rodinní poradci | G56: =SUM(D56:F56) -> 0
A57: 1.1.6. | B57: další odborní pracovníci, kt.přímo poskytují soc.služby | G57: =SUM(D57:F57) -> 0
A58: 41306 | B58: OSTATNÍ PRACOVNÍCI celkem | D58: =SUM(D59:D61) -> 0 | E58: =SUM(E59:E61) -> 0 | F58: =SUM(F59:F61) -> 0 | G58: =SUM(G59:G61) -> 0
A59: 1.2.1. | B59: vedoucí pracovníci | G59: =SUM(D59:F59) -> 0
A60: 1.2.2. | B60: administrativní pracovníci | G60: =SUM(D60:F60) -> 0
A61: 1.2.3. | B61: obslužný personál | G61: =SUM(D61:F61) -> 0
A63: rok n+2
A64: ř. | B64: pracovní pozice | D64: úvazky - pracovní smlouvy | E64: úvazky - DPČ | F64: úvazky (přepočet) - DPP | G64: celkem
A65: 1 | B65: PRACOVNÍCI CELKEM | D65: =D66+D73 -> 0 | E65: =E66+E73 -> 0 | F65: =F66+F73 -> 0 | G65: =G66+G73 -> 0
A66: 41275 | B66: PRACOVNÍCI V PŘÍMÉ PÉČI celkem | D66: =SUM(D67:D72) -> 0 | E66: =SUM(E67:E72) -> 0 | F66: =SUM(F67:F72) -> 0 | G66: =SUM(G67:G72) -> 0
A67: 1.1.1. | B67: sociální pracovníci | G67: =SUM(D67:F67) -> 0
A68: 1.1.2. | B68: pracovníci v sociálních službách | G68: =SUM(D68:F68) -> 0
A69: 1.1.3. | B69: zdravotničtí pracovníci | G69: =SUM(D69:F69) -> 0
A70: 1.1.4. | B70: pedagogičtí pracovníci | G70: =SUM(D70:F70) -> 0
A71: 1.1.5. | B71: manželští a rodinní poradci | G71: =SUM(D71:F71) -> 0
A72: 1.1.6. | B72: další odborní pracovníci, kt.přímo poskytují soc.služby | G72: =SUM(D72:F72) -> 0
A73: 41306 | B73: OSTATNÍ PRACOVNÍCI celkem | D73: =SUM(D74:D76) -> 0 | E73: =SUM(E74:E76) -> 0 | F73: =SUM(F74:F76) -> 0 | G73: =SUM(G74:G76) -> 0
A74: 1.2.1. | B74: vedoucí pracovníci | G74: =SUM(D74:F74) -> 0
A75: 1.2.2. | B75: administrativní pracovníci | G75: =SUM(D75:F75) -> 0
A76: 1.2.3. | B76: obslužný personál | G76: =SUM(D76:F76) -> 0
A78: rok n+3
A79: ř. | B79: pracovní pozice | D79: úvazky - pracovní smlouvy | E79: úvazky - DPČ | F79: úvazky (přepočet) - DPP | G79: celkem
A80: 1 | B80: PRACOVNÍCI CELKEM | D80: =D81+D88 -> 0 | E80: =E81+E88 -> 0 | F80: =F81+F88 -> 0 | G80: =G81+G88 -> 0
A81: 41275 | B81: PRACOVNÍCI V PŘÍMÉ PÉČI celkem | D81: =SUM(D82:D87) -> 0 | E81: =SUM(E82:E87) -> 0 | F81: =SUM(F82:F87) -> 0 | G81: =SUM(G82:G87) -> 0
A82: 1.1.1. | B82: sociální pracovníci | G82: =SUM(D82:F82) -> 0
A83: 1.1.2. | B83: pracovníci v sociálních službách | G83: =SUM(D83:F83) -> 0
A84: 1.1.3. | B84: zdravotničtí pracovníci | G84: =SUM(D84:F84) -> 0
A85: 1.1.4. | B85: pedagogičtí pracovníci | G85: =SUM(D85:F85) -> 0
A86: 1.1.5. | B86: manželští a rodinní poradci | G86: =SUM(D86:F86) -> 0
A87: 1.1.6. | B87: další odborní pracovníci, kt.přímo poskytují soc.služby | G87: =SUM(D87:F87) -> 0
A88: 41306 | B88: OSTATNÍ PRACOVNÍCI celkem | D88: =SUM(D89:D91) -> 0 | E88: =SUM(E89:E91) -> 0 | F88: =SUM(F89:F91) -> 0 | G88: =SUM(G89:G91) -> 0
A89: 1.2.1. | B89: vedoucí pracovníci | G89: =SUM(D89:F89) -> 0
A90: 1.2.2. | B90: administrativní pracovníci | G90: =SUM(D90:F90) -> 0
A91: 1.2.3. | B91: obslužný personál | G91: =SUM(D91:F91) -> 0
A93: Finanční část
A95: Plánované náklady sociální služby podle jednotlivých nákladových položek (celkem a v jednotlivých letech poskytování služby v rámci projektu)
A97: Nákladová položka | D97: Plánované náklady sociální služby CELKEM | E97: Plánované náklady sociální služby v roce n | F97: Plánované náklady sociální služby v roce n+1 | G97: Plánované náklady sociální služby v roce n+2 | H97: Plánované náklady sociální služby v roce n+3 | I97: číslo položky rozpočtu v IS KP 14+ | J97: Komentář
A98: 1 OSOBNÍ (MZDOVÉ) NÁKLADY | D98: =SUM(E98:H98) -> 0 | E98: =SUM(E99:E102) -> 0 | F98: =SUM(F99:F102) -> 0 | G98: =SUM(G99:G102) -> 0 | H98: =SUM(H99:H102) -> 0
A99: 1.1 Pracovní smlouvy (hlavní pracovní poměr) | D99: =SUM(E99:H99) -> 0 | E99: 0 | F99: 0 | G99: 0 | H99: 0
A100: 1.2 Dohody o pracovní činnosti | D100: =SUM(E100:H100) -> 0 | E100: 0 | F100: 0 | G100: 0 | H100: 0
A101: 1.3 Dohody o provedení práce | D101: =SUM(E101:H101) -> 0 | E101: 0 | F101: 0 | G101: 0 | H101: 0
A102: 1.4 Jiné osobní náklady | D102: =SUM(E102:H102) -> 0 | E102: 0 | F102: 0 | G102: 0 | H102: 0
A103: 03 Zařízení a vybavení | D103: =SUM(E103:H103) -> 0 | E103: =E104 -> 0 | F103: =F104 -> 0 | G103: =G104 -> 0 | H103: =H104 -> 0
A104: 3.2 Dlouhodobý majetek - neinvestiční | D104: =SUM(E104:H104) -> 0 | E104: =SUM(E105:E108) -> 0 | F104: =SUM(F105:F108) -> 0 | G104: =SUM(G105:G108) -> 0 | H104: =SUM(H105:H108) -> 0
A105: 3.2.1 Dlouhodobý nehmotný majetek do 60 tis. Kč | D105: =SUM(E105:H105) -> 0 | E105: 0 | F105: 0 | G105: 0 | H105: 0
A106: 3.2.2 Dlouhodobý hmotný majetek do 40 tis. Kč | D106: =SUM(E106:H106) -> 0 | E106: 0 | F106: 0 | G106: 0 | H106: 0
A107: 3.2.3 Spotřební materiál pro CS | D107: =SUM(E107:H107) -> 0 | E107: 0 | F107: 0 | G107: 0 | H107: 0
A108: 3.2.4 odpisy | D108: =SUM(E108:H108) -> 0 | E108: 0 | F108: 0 | G108: 0 | H108: 0
A109: 04 Služby | D109: =SUM(E109:H109) -> 0 | E109: =SUM(E110:E115) -> 0 | F109: =SUM(F110:F115) -> 0 | G109: =SUM(G110:G115) -> 0 | H109: =SUM(H110:H115) -> 0
A110: 4.1 nájemné | D110: =SUM(E110:H110) -> 0 | E110: 0 | F110: 0 | G110: 0 | H110: 0
A111: 4.2 právní a ekonomické služby | D111: =SUM(E111:H111) -> 0 | E111: 0 | F111: 0 | G111: 0 | H111: 0
A112: 4.3 školení a kurzy | D112: =SUM(E112:H112) -> 0 | E112: 0 | F112: 0 | G112: 0 | H112: 0
A113: 4.4 pracovníci v přímé péči (mimo prac.poměr, DPP, DPČ) | D113: =SUM(E113:H113) -> 0 | E113: 0 | F113: 0 | G113: 0 | H113: 0
A114: 4.5 ostatní pracovníci (mimo prac.poměr, DPP, DPČ) | D114: =SUM(E114:H114) -> 0 | E114: 0 | F114: 0 | G114: 0 | H114: 0
A115: 4.6 jiné | D115: =SUM(E115:H115) -> 0 | E115: 0 | F115: 0 | G115: 0 | H115: 0
...

Sheet Sociální služba 3
A3: Základní identifikační údaje:
A5: Název organizace (poskytovatele služby)
A6: Identifikační číslo (IČ)
A7: Identifikátor služby
A8: Název služby
A9: Druh služby
A10: Forma služby
A11: Cílová skupina služby
A12: Místo poskytování sociální služby a územní působnost
A13: Služba v rámci projektu poskytována od - do (uvede se konkrétní datum odkdy - dokdy je poskytování služby v projektu):
A14: Počet měsíců poskytování služby v rámci projektu celkem | C14: =SUM(C15:C18) -> 0
A15: rok n
A16: rok n+1
A17: rok n+2
A18: rok n+3
A20: Údaje o kapacitě služby (poskytovatel vyplní údaje o kapacitě služby s ohledem na druh a formu služby a způsob/jednotku vyjádření její kapacity v síti sociálních služeb a v rámci Pověření)
A22: Předpokládaný rozsah služby (Kapacita služby) | C22: Jednotka pro vyjádření kapacity služby | E22: Počet jednotek služby
A23: rok n
A24: rok n+1
A25: rok n+2
A26: rok n+3
A28: poznámka: rok n = první kalendářní rok, ve kterém bude sociální služba v rámci projektu podpořena
A31: Personální zajištění služby
A33: rok n
A34: ř. | B34: pracovní pozice | D34: úvazky - pracovní smlouvy | E34: úvazky - DPČ | F34: úvazky (přepočet) - DPP | G34: celkem
A35: 1 | B35: PRACOVNÍCI CELKEM | D35: =D36+D43 -> 0 | E35: =E36+E43 -> 0 | F35: =F36+F43 -> 0 | G35: =G36+G43 -> 0
A36: 41275 | B36: PRACOVNÍCI V PŘÍMÉ PÉČI celkem | D36: =SUM(D37:D42) -> 0 | E36: =SUM(E37:E42) -> 0 | F36: =SUM(F37:F42) -> 0 | G36: =SUM(G37:G42) -> 0
A37: 1.1.1. | B37: sociální pracovníci | G37: =SUM(D37:F37) -> 0
A38: 1.1.2. | B38: pracovníci v sociálních službách | G38: =SUM(D38:F38) -> 0
A39: 1.1.3. | B39: zdravotničtí pracovníci | G39: =SUM(D39:F39) -> 0
A40: 1.1.4. | B40: pedagogičtí pracovníci | G40: =SUM(D40:F40) -> 0
A41: 1.1.5. | B41: manželští a rodinní poradci | G41: =SUM(D41:F41) -> 0
A42: 1.1.6. | B42: další odborní pracovníci, kt.přímo poskytují soc.služby | G42: =SUM(D42:F42) -> 0
A43: 41306 | B43: OSTATNÍ PRACOVNÍCI celkem | D43: =SUM(D44:D46) -> 0 | E43: =SUM(E44:E46) -> 0 | F43: =SUM(F44:F46) -> 0 | G43: =SUM(G44:G46) -> 0
A44: 1.2.1. | B44: vedoucí pracovníci | G44: =SUM(D44:F44) -> 0
A45: 1.2.2. | B45: administrativní pracovníci | G45: =SUM(D45:F45) -> 0
A46: 1.2.3. | B46: obslužný personál | G46: =SUM(D46:F46) -> 0
A48: rok n+1
A49: ř. | B49: pracovní pozice | D49: úvazky - pracovní smlouvy | E49: úvazky - DPČ | F49: úvazky (přepočet) - DPP | G49: celkem
A50: 1 | B50: PRACOVNÍCI CELKEM | D50: =D51+D58 -> 0 | E50: =E51+E58 -> 0 | F50: =F51+F58 -> 0 | G50: =G51+G58 -> 0
A51: 41275 | B51: PRACOVNÍCI V PŘÍMÉ PÉČI celkem | D51: =SUM(D52:D57) -> 0 | E51: =SUM(E52:E57) -> 0 | F51: =SUM(F52:F57) -> 0 | G51: =SUM(G52:G57) -> 0
A52: 1.1.1. | B52: sociální pracovníci | G52: =SUM(D52:F52) -> 0
A53: 1.1.2. | B53: pracovníci v sociálních službách | G53: =SUM(D53:F53) -> 0
A54: 1.1.3. | B54: zdravotničtí pracovníci | G54: =SUM(D54:F54) -> 0
A55: 1.1.4. | B55: pedagogičtí pracovníci | G55: =SUM(D55:F55) -> 0
A56: 1.1.5. | B56: manželští a rodinní poradci | G56: =SUM(D56:F56) -> 0
A57: 1.1.6. | B57: další odborní pracovníci, kt.přímo poskytují soc.služby | G57: =SUM(D57:F57) -> 0
A58: 41306 | B58: OSTATNÍ PRACOVNÍCI celkem | D58: =SUM(D59:D61) -> 0 | E58: =SUM(E59:E61) -> 0 | F58: =SUM(F59:F61) -> 0 | G58: =SUM(G59:G61) -> 0
A59: 1.2.1. | B59: vedoucí pracovníci | G59: =SUM(D59:F59) -> 0
A60: 1.2.2. | B60: administrativní pracovníci | G60: =SUM(D60:F60) -> 0
A61: 1.2.3. | B61: obslužný personál | G61: =SUM(D61:F61) -> 0
A63: rok n+2
A64: ř. | B64: pracovní pozice | D64: úvazky - pracovní smlouvy | E64: úvazky - DPČ | F64: úvazky (přepočet) - DPP | G64: celkem
A65: 1 | B65: PRACOVNÍCI CELKEM | D65: =D66+D73 -> 0 | E65: =E66+E73 -> 0 | F65: =F66+F73 -> 0 | G65: =G66+G73 -> 0
A66: 41275 | B66: PRACOVNÍCI V PŘÍMÉ PÉČI celkem | D66: =SUM(D67:D72) -> 0 | E66: =SUM(E67:E72) -> 0 | F66: =SUM(F67:F72) -> 0 | G66: =SUM(G67:G72) -> 0
A67: 1.1.1. | B67: sociální pracovníci | G67: =SUM(D67:F67) -> 0
A68: 1.1.2. | B68: pracovníci v sociálních službách | G68: =SUM(D68:F68) -> 0
A69: 1.1.3. | B69: zdravotničtí pracovníci | G69: =SUM(D69:F69) -> 0
A70: 1.1.4. | B70: pedagogičtí pracovníci | G70: =SUM(D70:F70) -> 0
A71: 1.1.5. | B71: manželští a rodinní poradci | G71: =SUM(D71:F71) -> 0
A72: 1.1.6. | B72: další odborní pracovníci, kt.přímo poskytují soc.služby | G72: =SUM(D72:F72) -> 0
A73: 41306 | B73: OSTATNÍ PRACOVNÍCI celkem | D73: =SUM(D74:D76) -> 0 | E73: =SUM(E74:E76) -> 0 | F73: =SUM(F74:F76) -> 0 | G73: =SUM(G74:G76) -> 0
A74: 1.2.1. | B74: vedoucí pracovníci | G74: =SUM(D74:F74) -> 0
A75: 1.2.2. | B75: administrativní pracovníci | G75: =SUM(D75:F75) -> 0
A76: 1.2.3. | B76: obslužný personál | G76: =SUM(D76:F76) -> 0
A78: rok n+3
A79: ř. | B79: pracovní pozice | D79: úvazky - pracovní smlouvy | E79: úvazky - DPČ | F79: úvazky (přepočet) - DPP | G79: celkem
A80: 1 | B80: PRACOVNÍCI CELKEM | D80: =D81+D88 -> 0 | E80: =E81+E88 -> 0 | F80: =F81+F88 -> 0 | G80: =G81+G88 -> 0
A81: 41275 | B81: PRACOVNÍCI V PŘÍMÉ PÉČI celkem | D81: =SUM(D82:D87) -> 0 | E81: =SUM(E82:E87) -> 0 | F81: =SUM(F82:F87) -> 0 | G81: =SUM(G82:G87) -> 0
A82: 1.1.1. | B82: sociální pracovníci | G82: =SUM(D82:F82) -> 0
A83: 1.1.2. | B83: pracovníci v sociálních službách | G83: =SUM(D83:F83) -> 0
A84: 1.1.3. | B84: zdravotničtí pracovníci | G84: =SUM(D84:F84) -> 0
A85: 1.1.4. | B85: pedagogičtí pracovníci | G85: =SUM(D85:F85) -> 0
A86: 1.1.5. | B86: manželští a rodinní poradci | G86: =SUM(D86:F86) -> 0
A87: 1.1.6. | B87: další odborní pracovníci, kt.přímo poskytují soc.služby | G87: =SUM(D87:F87) -> 0
A88: 41306 | B88: OSTATNÍ PRACOVNÍCI celkem | D88: =SUM(D89:D91) -> 0 | E88: =SUM(E89:E91) -> 0 | F88: =SUM(F89:F91) -> 0 | G88: =SUM(G89:G91) -> 0
A89: 1.2.1. | B89: vedoucí pracovníci | G89: =SUM(D89:F89) -> 0
A90: 1.2.2. | B90: administrativní pracovníci | G90: =SUM(D90:F90) -> 0
A91: 1.2.3. | B91: obslužný personál | G91: =SUM(D91:F91) -> 0
A93: Finanční část
A95: Plánované náklady sociální služby podle jednotlivých nákladových položek (celkem a v jednotlivých letech poskytování služby v rámci projektu)
A97: Nákladová položka | D97: Plánované náklady sociální služby CELKEM | E97: Plánované náklady sociální služby v roce n | F97: Plánované náklady sociální služby v roce n+1 | G97: Plánované náklady sociální služby v roce n+2 | H97: Plánované náklady sociální služby v roce n+3 | I97: číslo položky rozpočtu v IS KP 14+ | J97: Komentář
A98: 1 OSOBNÍ (MZDOVÉ) NÁKLADY | D98: =SUM(E98:H98) -> 0 | E98: =SUM(E99:E102) -> 0 | F98: =SUM(F99:F102) -> 0 | G98: =SUM(G99:G102) -> 0 | H98: =SUM(H99:H102) -> 0
A99: 1.1 Pracovní smlouvy (hlavní pracovní poměr) | D99: =SUM(E99:H99) -> 0 | E99: 0 | F99: 0 | G99: 0 | H99: 0
A100: 1.2 Dohody o pracovní činnosti | D100: =SUM(E100:H100) -> 0 | E100: 0 | F100: 0 | G100: 0 | H100: 0
A101: 1.3 Dohody o provedení práce | D101: =SUM(E101:H101) -> 0 | E101: 0 | F101: 0 | G101: 0 | H101: 0
A102: 1.4 Jiné osobní náklady | D102: =SUM(E102:H102) -> 0 | E102: 0 | F102: 0 | G102: 0 | H102: 0
A103: 03 Zařízení a vybavení | D103: =SUM(E103:H103) -> 0 | E103: =E104 -> 0 | F103: =F104 -> 0 | G103: =G104 -> 0 | H103: =H104 -> 0
A104: 3.2 Dlouhodobý majetek - neinvestiční | D104: =SUM(E104:H104) -> 0 | E104: =SUM(E105:E108) -> 0 | F104: =SUM(F105:F108) -> 0 | G104: =SUM(G105:G108) -> 0 | H104: =SUM(H105:H108) -> 0
A105: 3.2.1 Dlouhodobý nehmotný majetek do 60 tis. Kč | D105: =SUM(E105:H105) -> 0 | E105: 0 | F105: 0 | G105: 0 | H105: 0
A106: 3.2.2 Dlouhodobý hmotný majetek do 40 tis. Kč | D106: =SUM(E106:H106) -> 0 | E106: 0 | F106: 0 | G106: 0 | H106: 0
A107: 3.2.3 Spotřební materiál pro CS | D107: =SUM(E107:H107) -> 0 | E107: 0 | F107: 0 | G107: 0 | H107: 0
A108: 3.2.4 odpisy | D108: =SUM(E108:H108) -> 0 | E108: 0 | F108: 0 | G108: 0 | H108: 0
A109: 04 Služby | D109: =SUM(E109:H109) -> 0 | E109: =SUM(E110:E115) -> 0 | F109: =SUM(F110:F115) -> 0 | G109: =SUM(G110:G115) -> 0 | H109: =SUM(H110:H115) -> 0
A110: 4.1 nájemné | D110: =SUM(E110:H110) -> 0 | E110: 0 | F110: 0 | G110: 0 | H110: 0
A111: 4.2 právní a ekonomické služby | D111: =SUM(E111:H111) -> 0 | E111: 0 | F111: 0 | G111: 0 | H111: 0
A112: 4.3 školení a kurzy | D112: =SUM(E112:H112) -> 0 | E112: 0 | F112: 0 | G112: 0 | H112: 0
A113: 4.4 pracovníci v přímé péči (mimo prac.poměr, DPP, DPČ) | D113: =SUM(E113:H113) -> 0 | E113: 0 | F113: 0 | G113: 0 | H113: 0
A114: 4.5 ostatní pracovníci (mimo prac.poměr, DPP, DPČ) | D114: =SUM(E114:H114) -> 0 | E114: 0 | F114: 0 | G114: 0 | H114: 0
A115: 4.6 jiné | D115: =SUM(E115:H115) -> 0 | E115: 0 | F115: 0 | G115: 0 | H115: 0
...

Sheet Další aktivity SOUHRNNĚ
A2: Další aktivity v projektu (mimo sociální služby)
A4: Celkové způsobilé výdaje připadající na další aktivity projektu (tj. včetně nepřímých nákladů) | B4: 0
A5: Jiné peněžní příjmy vůči dalším aktivitám projektu | B5: 0
A6: Celkové způsobilé výdaje bez příjmů | B6: =B4-B5 -> 0
A7: Spolufinancování připadající na další aktivity | B7: ='Sociální služba 1'!C142 -> 0.05
A8: Podpora celkem | B8: =(100%-B7)*B6 -> 0
A9: Vlastní zdroje spolufinancování | B9: =B6*B7 -> 0
A12: 0
A13: 0.05
A14: 0.15

Sheet Žádost v ISKP
A1: Žádost o podporu (Žádost v ISKP)
A2: Přehled zdrojů financování
A4: Přehled zdrojů financování: | B4: Celkem za projekt | C4: Sociální služba 1 | D4: Sociální služba 2 | E4: Sociální služba 3 | F4: Další aktivity (v souhrnu)
A5: Fáze přehledu financování | B5: Žádost o podporu
A6: Měna | B6: CZK
A7: Název etapy:
A8: Celkové zdroje: | B8: =SUM(C8:F8) -> 0 | C8: =C11 -> 0 | D8: =D11 -> 0 | E8: =E11 -> 0 | F8: =F11 -> 0
A9: Celkové nezpůsobilé výdaje: | B9: =SUM(C9:F9) -> 0 | C9: 0 | D9: 0 | E9: 0 | F9: 0
A10: JPP nezpůsobilé: | B10: =SUM(C10:F10) -> 0 | C10: 0 | D10: 0 | E10: 0 | F10: 0
A11: Celkové způsobilé výdaje: | B11: =SUM(C11:F11) -> 0 | C11: =SUM(C12:C13) -> 0 | D11: =SUM(D12:D13) -> 0 | E11: =SUM(E12:E13) -> 0 | F11: =SUM(F12:F13) -> 0
A12: Jiné peněžní příjmy (JPP): | B12: =SUM(C12:F12) -> 0 | C12: ='Sociální služba 1'!D140-'Žádost v ISKP'!C18 -> 0 | D12: ='Sociální služba 2'!D140-'Žádost v ISKP'!D18 -> 0 | E12: ='Sociální služba 3'!D140-'Žádost v ISKP'!E18 -> 0 | F12: ='Další aktivity SOUHRNNĚ'!B5 -> 0
A13: CZV bez příjmů: | B13: =SUM(C13:F13) -> 0 | C13: =SUM(C17:C18) -> 0 | D13: =SUM(D17:D18) -> 0 | E13: =SUM(E17:E18) -> 0 | F13: =SUM(F17:F18) -> 0
A14: Příjmy čl. 61 obecného nařízení: | B14: =SUM(C14:F14) -> 0 | C14: 0 | D14: 0 | E14: 0 | F14: 0
A15: Příspěvek Unie: | B15: =SUM(C15:F15) -> 0 | C15: =C13*0.85 -> 0 | D15: =D13*0.85 -> 0 | E15: =E13*0.85 -> 0 | F15: =F13*0.85 -> 0
A16: Národní veřejné zdroje: | B16: =SUM(C16:F16) -> 0 | C16: =IF(C19=15%,0,(C13*0.15)-C18) -> 0 | D16: =IF(D19=15%,0,(D13*0.15)-D18) -> 0 | E16: =IF(E19=15%,0,(E13*0.15)-E18) -> 0 | F16: =IF(F19=15%,0,(F13*0.15)-F18) -> 0
A17: Podpora celkem: | B17: =SUM(C17:F17) -> 0 | C17: =C21 -> 0 | D17: =D21 -> 0 | E17: =E21 -> 0 | F17: ='Další aktivity SOUHRNNĚ'!B8 -> 0
A18: Vlastní zdroj financování: | B18: =SUM(C18:F18) -> 0 | C18: =(C17/(100%-C19)*C19) -> 0 | D18: =(D17/(100%-D19)*D19) -> 0 | E18: =(E17/(100%-E19)*E19) -> 0 | F18: =(F17/(100%-F19)*F19) -> 0
A19: Procento vlastního spolufinancování: | B19: ='Sociální služba 1'!C142 -> 0.05 | C19: ='Sociální služba 1'!C142 -> 0.05 | D19: ='Sociální služba 1'!C142 -> 0.05 | E19: ='Sociální služba 1'!C142 -> 0.05 | F19: ='Sociální služba 1'!C142 -> 0.05
A21: Vyrovnávací platba celkem: | B21: =SUM(C21:E21) -> 0 | C21: ='Sociální služba 1'!D141 -> 0 | D21: ='Sociální služba 2'!D141 -> 0 | E21: ='Sociální služba 3'!D141 -> 0 | F21: NENÍ RELEVANTNÍ | G21: =SUM(C17:E17) -> 0

Sheet List1
